Package: IgGeneUsage Version: 1.22.0 Command: /home/biocbuild/R/R/bin/R CMD build --keep-empty-dirs --no-resave-data IgGeneUsage StartedAt: 2025-05-16 01:29:06 -0000 (Fri, 16 May 2025) EndedAt: 2025-05-16 01:53:59 -0000 (Fri, 16 May 2025) EllapsedTime: 1493.6 seconds RetCode: 0 Status: OK PackageFile: IgGeneUsage_1.22.0.tar.gz PackageFileSize: 1.147 MiB