Package: IgGeneUsage Version: 1.20.0 Command: /Library/Frameworks/R.framework/Resources/bin/R CMD build --keep-empty-dirs --no-resave-data IgGeneUsage StartedAt: 2025-01-31 01:41:36 -0500 (Fri, 31 Jan 2025) EndedAt: 2025-01-31 01:56:49 -0500 (Fri, 31 Jan 2025) EllapsedTime: 913.2 seconds RetCode: 0 Status: OK PackageFile: IgGeneUsage_1.20.0.tar.gz PackageFileSize: 1.2 MiB