Package: IgGeneUsage Version: 1.20.0 Command: rm -rf IgGeneUsage.buildbin-libdir && mkdir IgGeneUsage.buildbin-libdir && /Users/biocbuild/BBS/utils/build-universal.sh IgGeneUsage_1.20.0.tar.gz /Library/Frameworks/R.framework/Resources/bin/R IgGeneUsage.buildbin-libdir StartedAt: 2025-02-01 15:20:18 -0500 (Sat, 01 Feb 2025) EndedAt: 2025-02-01 15:29:08 -0500 (Sat, 01 Feb 2025) EllapsedTime: 530.0 seconds RetCode: 0 Status: OK PackageFile: IgGeneUsage_1.20.0.tgz PackageFileSize: 2.963 MiB