Package: Icens Version: 1.82.0 Command: /home/biocbuild/bbs-3.22-bioc/R/bin/R CMD INSTALL Icens StartedAt: 2025-11-16 15:12:40 -0500 (Sun, 16 Nov 2025) EndedAt: 2025-11-16 15:12:49 -0500 (Sun, 16 Nov 2025) EllapsedTime: 9.2 seconds RetCode: 0 Status: OK