Package: IWTomics Version: 1.32.0 Command: /Library/Frameworks/R.framework/Resources/bin/R CMD build --keep-empty-dirs --no-resave-data IWTomics StartedAt: 2025-05-08 19:54:11 -0400 (Thu, 08 May 2025) EndedAt: 2025-05-08 19:58:48 -0400 (Thu, 08 May 2025) EllapsedTime: 277.1 seconds RetCode: 0 Status: OK PackageFile: IWTomics_1.32.0.tar.gz PackageFileSize: 1.4 MiB