Package: IVAS Version: 2.26.0 Command: /home/biocbuild/R/R/bin/R CMD check --install=check:IVAS.install-out.txt --library=/home/biocbuild/R/R/site-library --no-vignettes --timings IVAS_2.26.0.tar.gz StartedAt: 2025-01-31 07:31:32 -0000 (Fri, 31 Jan 2025) EndedAt: 2025-01-31 07:37:42 -0000 (Fri, 31 Jan 2025) EllapsedTime: 369.5 seconds RetCode: 0 Status: WARNINGS CheckDir: IVAS.Rcheck Warnings: 1