Package: ISLET Version: 1.10.0 Command: /Library/Frameworks/R.framework/Resources/bin/R CMD check --install=check:ISLET.install-out.txt --library=/Library/Frameworks/R.framework/Resources/library --no-vignettes --timings ISLET_1.10.0.tar.gz StartedAt: 2025-04-21 21:27:43 -0400 (Mon, 21 Apr 2025) EndedAt: 2025-04-21 21:35:59 -0400 (Mon, 21 Apr 2025) EllapsedTime: 496.6 seconds RetCode: 0 Status: OK CheckDir: ISLET.Rcheck Warnings: 0