Package: ISLET Version: 1.10.0 Command: /Library/Frameworks/R.framework/Resources/bin/R CMD INSTALL ISLET StartedAt: 2025-04-21 15:12:25 -0400 (Mon, 21 Apr 2025) EndedAt: 2025-04-21 15:12:36 -0400 (Mon, 21 Apr 2025) EllapsedTime: 10.6 seconds RetCode: 0 Status: OK