Package: ISLET Version: 1.10.0 Command: /Library/Frameworks/R.framework/Resources/bin/R CMD build --keep-empty-dirs --no-resave-data ISLET StartedAt: 2025-04-21 16:44:37 -0400 (Mon, 21 Apr 2025) EndedAt: 2025-04-21 16:45:56 -0400 (Mon, 21 Apr 2025) EllapsedTime: 78.9 seconds RetCode: 0 Status: OK PackageFile: ISLET_1.10.0.tar.gz PackageFileSize: 2.185 MiB