Package: ISLET Version: 1.10.0 Command: /Library/Frameworks/R.framework/Resources/bin/R CMD check --install=check:ISLET.install-out.txt --library=/Library/Frameworks/R.framework/Resources/library --no-vignettes --timings ISLET_1.10.0.tar.gz StartedAt: 2025-05-06 23:30:44 -0400 (Tue, 06 May 2025) EndedAt: 2025-05-06 23:39:35 -0400 (Tue, 06 May 2025) EllapsedTime: 531.1 seconds RetCode: 0 Status: OK CheckDir: ISLET.Rcheck Warnings: 0