Package: ISLET Version: 1.10.0 Command: /Library/Frameworks/R.framework/Resources/bin/R CMD build --keep-empty-dirs --no-resave-data ISLET StartedAt: 2025-05-06 02:27:29 -0400 (Tue, 06 May 2025) EndedAt: 2025-05-06 02:31:01 -0400 (Tue, 06 May 2025) EllapsedTime: 212.3 seconds RetCode: 0 Status: OK PackageFile: ISLET_1.10.0.tar.gz PackageFileSize: 2.185 MiB