Package: IRanges Version: 2.42.0 Command: chmod a+r IRanges -R && E:\biocbuild\bbs-3.21-bioc\R\bin\R.exe CMD build --keep-empty-dirs --no-resave-data IRanges StartedAt: 2025-08-14 19:54:39 -0400 (Thu, 14 Aug 2025) EndedAt: 2025-08-14 19:56:53 -0400 (Thu, 14 Aug 2025) EllapsedTime: 134.3 seconds RetCode: 0 Status: OK PackageFile: IRanges_2.42.0.tar.gz PackageFileSize: 472.1 KiB