Package: IPO Version: 1.34.0 Command: /Library/Frameworks/R.framework/Resources/bin/R CMD INSTALL IPO StartedAt: 2025-05-22 16:17:47 -0400 (Thu, 22 May 2025) EndedAt: 2025-05-22 16:17:48 -0400 (Thu, 22 May 2025) EllapsedTime: 0.6 seconds RetCode: 1 Status: ERROR