Package: IPO Version: 1.34.0 Command: /Library/Frameworks/R.framework/Resources/bin/R CMD INSTALL IPO StartedAt: 2025-04-21 15:36:22 -0400 (Mon, 21 Apr 2025) EndedAt: 2025-04-21 15:36:23 -0400 (Mon, 21 Apr 2025) EllapsedTime: 0.6 seconds RetCode: 1 Status: ERROR