Package: IONiseR Version: 2.32.0 Command: /Library/Frameworks/R.framework/Resources/bin/R CMD INSTALL IONiseR StartedAt: 2025-04-21 15:39:35 -0400 (Mon, 21 Apr 2025) EndedAt: 2025-04-21 15:40:21 -0400 (Mon, 21 Apr 2025) EllapsedTime: 46.6 seconds RetCode: 0 Status: OK