Package: IONiseR Version: 2.32.0 Command: /Library/Frameworks/R.framework/Resources/bin/R CMD build --keep-empty-dirs --no-resave-data IONiseR StartedAt: 2025-04-21 17:13:57 -0400 (Mon, 21 Apr 2025) EndedAt: 2025-04-21 17:16:04 -0400 (Mon, 21 Apr 2025) EllapsedTime: 127.1 seconds RetCode: 0 Status: OK PackageFile: IONiseR_2.32.0.tar.gz PackageFileSize: 4.182 MiB