Package: IONiseR Version: 2.32.0 Command: rm -rf IONiseR.buildbin-libdir && mkdir IONiseR.buildbin-libdir && /Users/biocbuild/BBS/utils/build-universal.sh IONiseR_2.32.0.tar.gz /Library/Frameworks/R.framework/Resources/bin/R IONiseR.buildbin-libdir StartedAt: 2025-04-22 00:50:57 -0400 (Tue, 22 Apr 2025) EndedAt: 2025-04-22 00:51:47 -0400 (Tue, 22 Apr 2025) EllapsedTime: 50.3 seconds RetCode: 0 Status: OK PackageFile: IONiseR_2.32.0.tgz PackageFileSize: 4.303 MiB