Package: INTACT Version: 1.6.0 Command: /home/biocbuild/R/R/bin/R CMD check --install=check:INTACT.install-out.txt --library=/home/biocbuild/R/R/site-library --no-vignettes --timings INTACT_1.6.0.tar.gz StartedAt: 2025-01-31 07:21:41 -0000 (Fri, 31 Jan 2025) EndedAt: 2025-01-31 07:22:24 -0000 (Fri, 31 Jan 2025) EllapsedTime: 43.0 seconds RetCode: 0 Status: OK CheckDir: INTACT.Rcheck Warnings: 0