Package: INTACT Version: 1.8.0 Command: /Library/Frameworks/R.framework/Resources/bin/R CMD INSTALL INTACT StartedAt: 2025-04-21 15:09:03 -0400 (Mon, 21 Apr 2025) EndedAt: 2025-04-21 15:09:23 -0400 (Mon, 21 Apr 2025) EllapsedTime: 20.4 seconds RetCode: 0 Status: OK