Package: INTACT Version: 1.8.0 Command: /Library/Frameworks/R.framework/Resources/bin/R CMD build --keep-empty-dirs --no-resave-data INTACT StartedAt: 2025-04-21 17:12:45 -0400 (Mon, 21 Apr 2025) EndedAt: 2025-04-21 17:13:02 -0400 (Mon, 21 Apr 2025) EllapsedTime: 17.2 seconds RetCode: 0 Status: OK PackageFile: INTACT_1.8.0.tar.gz PackageFileSize: 2.487 MiB