Package: INPower Version: 1.46.0 Command: /home/biocbuild/bbs-3.22-bioc/R/bin/R CMD INSTALL INPower StartedAt: 2025-11-10 15:07:55 -0500 (Mon, 10 Nov 2025) EndedAt: 2025-11-10 15:08:09 -0500 (Mon, 10 Nov 2025) EllapsedTime: 14.1 seconds RetCode: 0 Status: OK