Package: INPower Version: 1.46.0 Command: /home/biocbuild/bbs-3.22-bioc/R/bin/R CMD build --keep-empty-dirs --no-resave-data --md5 INPower StartedAt: 2025-11-10 18:20:07 -0500 (Mon, 10 Nov 2025) EndedAt: 2025-11-10 18:20:13 -0500 (Mon, 10 Nov 2025) EllapsedTime: 6.0 seconds RetCode: 0 Status: OK PackageFile: INPower_1.46.0.tar.gz PackageFileSize: 147.7 KiB