Package: INPower Version: 1.46.0 Command: /Library/Frameworks/R.framework/Resources/bin/R CMD INSTALL INPower StartedAt: 2025-11-10 15:01:57 -0500 (Mon, 10 Nov 2025) EndedAt: 2025-11-10 15:01:58 -0500 (Mon, 10 Nov 2025) EllapsedTime: 1.8 seconds RetCode: 0 Status: OK