Package: INPower Version: 1.46.0 Command: /Library/Frameworks/R.framework/Resources/bin/R CMD build --keep-empty-dirs --no-resave-data INPower StartedAt: 2025-11-10 16:46:55 -0500 (Mon, 10 Nov 2025) EndedAt: 2025-11-10 16:46:59 -0500 (Mon, 10 Nov 2025) EllapsedTime: 4.1 seconds RetCode: 0 Status: OK PackageFile: INPower_1.46.0.tar.gz PackageFileSize: 146.9 KiB