Package: INPower Version: 1.46.0 Command: rm -rf INPower.buildbin-libdir && mkdir INPower.buildbin-libdir && /Users/biocbuild/BBS/utils/build-universal.sh INPower_1.46.0.tar.gz /Library/Frameworks/R.framework/Resources/bin/R INPower.buildbin-libdir StartedAt: 2025-11-09 23:11:50 -0500 (Sun, 09 Nov 2025) EndedAt: 2025-11-09 23:11:52 -0500 (Sun, 09 Nov 2025) EllapsedTime: 2.0 seconds RetCode: 0 Status: OK PackageFile: INPower_1.46.0.tgz PackageFileSize: 163.5 KiB