Package: IHW Version: 1.34.0 Command: /home/biocbuild/R/R/bin/R CMD build --keep-empty-dirs --no-resave-data IHW StartedAt: 2025-01-31 00:22:38 -0000 (Fri, 31 Jan 2025) EndedAt: 2025-01-31 00:25:38 -0000 (Fri, 31 Jan 2025) EllapsedTime: 180.2 seconds RetCode: 0 Status: OK PackageFile: IHW_1.34.0.tar.gz PackageFileSize: 2.066 MiB