Package: IFAA Version: 1.8.0 Command: /home/biocbuild/R/R/bin/R CMD check --install=check:IFAA.install-out.txt --library=/home/biocbuild/R/R/site-library --no-vignettes --timings IFAA_1.8.0.tar.gz StartedAt: 2025-01-31 07:17:37 -0000 (Fri, 31 Jan 2025) EndedAt: 2025-01-31 07:26:24 -0000 (Fri, 31 Jan 2025) EllapsedTime: 526.5 seconds RetCode: 0 Status: OK CheckDir: IFAA.Rcheck Warnings: 0