Package: IFAA Version: 1.10.0 Command: /Library/Frameworks/R.framework/Resources/bin/R CMD check --install=check:IFAA.install-out.txt --library=/Library/Frameworks/R.framework/Resources/library --no-vignettes --timings IFAA_1.10.0.tar.gz StartedAt: 2025-05-02 04:46:10 -0400 (Fri, 02 May 2025) EndedAt: 2025-05-02 05:01:09 -0400 (Fri, 02 May 2025) EllapsedTime: 899.5 seconds RetCode: 0 Status: OK CheckDir: IFAA.Rcheck Warnings: 0