Package: IFAA Version: 1.10.0 Command: /home/biocbuild/R/R/bin/R CMD INSTALL IFAA StartedAt: 2025-04-21 20:46:56 -0000 (Mon, 21 Apr 2025) EndedAt: 2025-04-21 20:47:34 -0000 (Mon, 21 Apr 2025) EllapsedTime: 38.5 seconds RetCode: 0 Status: OK