Package: IFAA Version: 1.10.0 Command: /Library/Frameworks/R.framework/Resources/bin/R CMD INSTALL IFAA StartedAt: 2025-04-21 15:18:01 -0400 (Mon, 21 Apr 2025) EndedAt: 2025-04-21 15:18:11 -0400 (Mon, 21 Apr 2025) EllapsedTime: 10.8 seconds RetCode: 0 Status: OK