Package: HybridExpress Version: 1.4.0 Command: /Library/Frameworks/R.framework/Resources/bin/R CMD build --keep-empty-dirs --no-resave-data HybridExpress StartedAt: 2025-05-15 19:52:44 -0400 (Thu, 15 May 2025) EndedAt: 2025-05-15 19:55:31 -0400 (Thu, 15 May 2025) EllapsedTime: 167.4 seconds RetCode: 0 Status: OK PackageFile: HybridExpress_1.4.0.tar.gz PackageFileSize: 3.411 MiB