Package: HybridExpress Version: 1.4.0 Command: rm -rf HybridExpress.buildbin-libdir && mkdir HybridExpress.buildbin-libdir && /Users/biocbuild/BBS/utils/build-universal.sh HybridExpress_1.4.0.tar.gz /Library/Frameworks/R.framework/Resources/bin/R HybridExpress.buildbin-libdir StartedAt: 2025-04-22 00:50:18 -0400 (Tue, 22 Apr 2025) EndedAt: 2025-04-22 00:50:55 -0400 (Tue, 22 Apr 2025) EllapsedTime: 36.1 seconds RetCode: 0 Status: OK PackageFile: HybridExpress_1.4.0.tgz PackageFileSize: 3.462 MiB