Package: HybridExpress Version: 1.4.0 Command: /home/biocbuild/R/R/bin/R CMD build --keep-empty-dirs --no-resave-data HybridExpress StartedAt: 2025-05-20 01:29:26 -0000 (Tue, 20 May 2025) EndedAt: 2025-05-20 01:31:11 -0000 (Tue, 20 May 2025) EllapsedTime: 105.1 seconds RetCode: 0 Status: OK PackageFile: HybridExpress_1.4.0.tar.gz PackageFileSize: 3.192 MiB