Package: HybridExpress Version: 1.4.0 Command: /Library/Frameworks/R.framework/Resources/bin/R CMD check --install=check:HybridExpress.install-out.txt --library=/Library/Frameworks/R.framework/Resources/library --no-vignettes --timings HybridExpress_1.4.0.tar.gz StartedAt: 2025-04-21 19:51:32 -0400 (Mon, 21 Apr 2025) EndedAt: 2025-04-21 19:53:05 -0400 (Mon, 21 Apr 2025) EllapsedTime: 93.2 seconds RetCode: 0 Status: OK CheckDir: HybridExpress.Rcheck Warnings: 0