Package: HybridExpress Version: 1.4.0 Command: rm -rf HybridExpress.buildbin-libdir && mkdir HybridExpress.buildbin-libdir && /Users/biocbuild/BBS/utils/build-universal.sh HybridExpress_1.4.0.tar.gz /Library/Frameworks/R.framework/Resources/bin/R HybridExpress.buildbin-libdir StartedAt: 2025-04-21 22:38:34 -0400 (Mon, 21 Apr 2025) EndedAt: 2025-04-21 22:38:45 -0400 (Mon, 21 Apr 2025) EllapsedTime: 11.3 seconds RetCode: 0 Status: OK PackageFile: HybridExpress_1.4.0.tgz PackageFileSize: 3.506 MiB