Package: HybridExpress Version: 1.4.0 Command: /Library/Frameworks/R.framework/Resources/bin/R CMD check --install=check:HybridExpress.install-out.txt --library=/Library/Frameworks/R.framework/Resources/library --no-vignettes --timings HybridExpress_1.4.0.tar.gz StartedAt: 2025-05-20 22:15:45 -0400 (Tue, 20 May 2025) EndedAt: 2025-05-20 22:20:01 -0400 (Tue, 20 May 2025) EllapsedTime: 256.5 seconds RetCode: 0 Status: OK CheckDir: HybridExpress.Rcheck Warnings: 0