Package: HubPub Version: 1.14.0 Command: rm -rf HubPub.buildbin-libdir && mkdir HubPub.buildbin-libdir && /Users/biocbuild/BBS/utils/build-universal.sh HubPub_1.14.0.tar.gz /Library/Frameworks/R.framework/Resources/bin/R HubPub.buildbin-libdir StartedAt: 2025-01-31 12:59:05 -0500 (Fri, 31 Jan 2025) EndedAt: 2025-01-31 12:59:15 -0500 (Fri, 31 Jan 2025) EllapsedTime: 10.5 seconds RetCode: 0 Status: OK PackageFile: HubPub_1.14.0.tgz PackageFileSize: 953.4 KiB