Package: HuBMAPR Version: 1.0.7 Command: /home/biocbuild/R/R/bin/R CMD INSTALL HuBMAPR StartedAt: 2025-01-30 20:12:35 -0000 (Thu, 30 Jan 2025) EndedAt: 2025-01-30 20:12:49 -0000 (Thu, 30 Jan 2025) EllapsedTime: 14.2 seconds RetCode: 0 Status: OK