Package: HoloFoodR Version: 1.2.0 Command: /home/biocbuild/bbs-3.21-bioc/R/bin/R CMD INSTALL HoloFoodR StartedAt: 2025-09-28 15:38:50 -0400 (Sun, 28 Sep 2025) EndedAt: 2025-09-28 15:39:21 -0400 (Sun, 28 Sep 2025) EllapsedTime: 30.8 seconds RetCode: 0 Status: OK