Package: HoloFoodR Version: 1.2.0 Command: /home/biocbuild/bbs-3.21-bioc/R/bin/R CMD build --keep-empty-dirs --no-resave-data HoloFoodR StartedAt: 2025-10-15 18:00:36 -0400 (Wed, 15 Oct 2025) EndedAt: 2025-10-15 18:03:01 -0400 (Wed, 15 Oct 2025) EllapsedTime: 145.2 seconds RetCode: 0 Status: OK PackageFile: HoloFoodR_1.2.0.tar.gz PackageFileSize: 3.113 MiB