Package: HilbertVisGUI Version: 1.66.1 Command: /home/biocbuild/bbs-3.21-bioc/R/bin/R CMD INSTALL HilbertVisGUI StartedAt: 2025-10-15 15:02:52 -0400 (Wed, 15 Oct 2025) EndedAt: 2025-10-15 15:03:25 -0400 (Wed, 15 Oct 2025) EllapsedTime: 33.0 seconds RetCode: 0 Status: OK