Package: HilbertVisGUI Version: 1.66.1 Command: /home/biocbuild/bbs-3.21-bioc/R/bin/R CMD build --keep-empty-dirs --no-resave-data HilbertVisGUI StartedAt: 2025-10-15 17:59:49 -0400 (Wed, 15 Oct 2025) EndedAt: 2025-10-15 18:00:11 -0400 (Wed, 15 Oct 2025) EllapsedTime: 22.0 seconds RetCode: 0 Status: OK PackageFile: HilbertVisGUI_1.66.1.tar.gz PackageFileSize: 147.3 KiB