Package: HilbertVis Version: 1.66.0 Maintainer: Simon Anders MaintainerEmail: sanders at fs.tum.de git_url: https://git.bioconductor.org/packages/HilbertVis git_branch: RELEASE_3_21 git_last_commit: a468046 git_last_commit_date: 2025-04-15 09:43:38 -0400 (Tue, 15 Apr 2025)