Package: HilbertCurve Version: 2.2.0 Command: rm -rf HilbertCurve.buildbin-libdir && mkdir HilbertCurve.buildbin-libdir && /Users/biocbuild/BBS/utils/build-universal.sh HilbertCurve_2.2.0.tar.gz /Library/Frameworks/R.framework/Resources/bin/R HilbertCurve.buildbin-libdir StartedAt: 2025-10-15 18:52:07 -0400 (Wed, 15 Oct 2025) EndedAt: 2025-10-15 18:52:33 -0400 (Wed, 15 Oct 2025) EllapsedTime: 26.1 seconds RetCode: 0 Status: OK PackageFile: HilbertCurve_2.2.0.tgz PackageFileSize: 760 KiB