Package: HicAggR Version: 1.4.0 Command: /Library/Frameworks/R.framework/Resources/bin/R CMD build --keep-empty-dirs --no-resave-data HicAggR StartedAt: 2025-04-21 17:06:03 -0400 (Mon, 21 Apr 2025) EndedAt: 2025-04-21 17:12:29 -0400 (Mon, 21 Apr 2025) EllapsedTime: 385.6 seconds RetCode: 0 Status: OK PackageFile: HicAggR_1.4.0.tar.gz PackageFileSize: 3.331 MiB