Package: HicAggR Version: 1.4.0 Command: /home/biocbuild/R/R/bin/R CMD INSTALL HicAggR StartedAt: 2025-05-05 20:43:49 -0000 (Mon, 05 May 2025) EndedAt: 2025-05-05 20:44:28 -0000 (Mon, 05 May 2025) EllapsedTime: 38.4 seconds RetCode: 0 Status: OK