Package: HicAggR Version: 1.4.0 Command: /Library/Frameworks/R.framework/Resources/bin/R CMD INSTALL HicAggR StartedAt: 2025-04-21 15:17:03 -0400 (Mon, 21 Apr 2025) EndedAt: 2025-04-21 15:17:16 -0400 (Mon, 21 Apr 2025) EllapsedTime: 12.8 seconds RetCode: 0 Status: OK