Package: HicAggR Version: 1.4.0 Command: rm -rf HicAggR.buildbin-libdir && mkdir HicAggR.buildbin-libdir && /Users/biocbuild/BBS/utils/build-universal.sh HicAggR_1.4.0.tar.gz /Library/Frameworks/R.framework/Resources/bin/R HicAggR.buildbin-libdir StartedAt: 2025-04-21 22:38:09 -0400 (Mon, 21 Apr 2025) EndedAt: 2025-04-21 22:38:23 -0400 (Mon, 21 Apr 2025) EllapsedTime: 13.3 seconds RetCode: 0 Status: OK PackageFile: HicAggR_1.4.0.tgz PackageFileSize: 3.241 MiB