Package: HicAggR Version: 1.4.0 Command: rm -rf HicAggR.buildbin-libdir && mkdir HicAggR.buildbin-libdir && /Users/biocbuild/BBS/utils/build-universal.sh HicAggR_1.4.0.tar.gz /Library/Frameworks/R.framework/Resources/bin/R HicAggR.buildbin-libdir StartedAt: 2025-05-10 15:28:39 -0400 (Sat, 10 May 2025) EndedAt: 2025-05-10 15:29:15 -0400 (Sat, 10 May 2025) EllapsedTime: 35.3 seconds RetCode: 0 Status: OK PackageFile: HicAggR_1.4.0.tgz PackageFileSize: 3.24 MiB