Package: HiLDA Version: 1.22.0 Command: /Library/Frameworks/R.framework/Resources/bin/R CMD build --keep-empty-dirs --no-resave-data HiLDA StartedAt: 2025-05-01 19:37:12 -0400 (Thu, 01 May 2025) EndedAt: 2025-05-01 19:45:45 -0400 (Thu, 01 May 2025) EllapsedTime: 512.7 seconds RetCode: 0 Status: OK PackageFile: HiLDA_1.22.0.tar.gz PackageFileSize: 2.46 MiB